Workbook

Sheet Bordro
A1: Personel Bordro Taslağı (2026)
A2: Sarı hücreler sizin dolduracağınız alanlardır; diğerleri formüldür. Örnek satırı silip kendi verilerinizi yazın. Hazırlayan: muhasebehesap.com
A4: Personel | B4: Brüt Maaş (₺) | C4: SGK İşçi | D4: İşsizlik | E4: GV Matrahı | F4: Gelir Vergisi | G4: Damga V. | H4: Toplam Kesinti | I4: Net Maaş
A5: Örnek Personel | B5: 45000 | C5: =IF(B5="","",MIN(B5,Parametreler!$B$6)*Parametreler!$B$4) -> 6300 | D5: =IF(B5="","",MIN(B5,Parametreler!$B$6)*Parametreler!$B$5) -> 450 | E5: =IF(B5="","",B5-C5-D5) -> 38250 | F5: =IF(B5="","",MAX(0,SUMPRODUCT(((E5*Parametreler!$B$8)>Parametreler!$A$11:$A$15)*((E5*Parametreler!$B$8)-Parametreler!$A$11:$A$15)*Parametreler!$C$11:$C$15)-SUMPRODUCT(((E5*(Parametreler!$B$8-1))>Parametreler!$A$11:$A$15)*((E5*(Parametreler!$B$8-1))-Parametreler!$A$11:$A$15)*Parametreler!$C$11:$C$15)-(SUMPRODUCT(((Parametreler!$B$3*(1-Parametreler!$B$4-Parametreler!$B$5)*Parametreler!$B$8)>Parametreler!$A$11:$A$15)*((Parametreler!$B$3*(1-Parametreler!$B$4-Parametreler!$B$5)*Parametreler!$B$8)-Parametreler!$A$11:$A$15)*Parametreler!$C$11:$C$15)-SUMPRODUCT(((Parametreler!$B$3*(1-Parametreler!$B$4-Parametreler!$B$5)*(Parametreler!$B$8-1))>Parametreler!$A$11:$A$15)*((Parametreler!$B$3*(1-Parametreler!$B$4-Parametreler!$B$5)*(Parametreler!$B$8-1))-Parametreler!$A$11:$A$15)*Parametreler!$C$11:$C$15)))) -> 1526.175 | G5: =IF(B5="","",MAX(0,(B5-Parametreler!$B$3)*Parametreler!$B$7)) -> 90.8523 | H5: =IF(B5="","",C5+D5+F5+G5) -> 8367.0273 | I5: =IF(B5="","",B5-H5) -> 36632.973
C6: =IF(B6="","",MIN(B6,Parametreler!$B$6)*Parametreler!$B$4) | D6: =IF(B6="","",MIN(B6,Parametreler!$B$6)*Parametreler!$B$5) | E6: =IF(B6="","",B6-C6-D6) | F6: =IF(B6="","",MAX(0,SUMPRODUCT(((E6*Parametreler!$B$8)>Parametreler!$A$11:$A$15)*((E6*Parametreler!$B$8)-Parametreler!$A$11:$A$15)*Parametreler!$C$11:$C$15)-SUMPRODUCT(((E6*(Parametreler!$B$8-1))>Parametreler!$A$11:$A$15)*((E6*(Parametreler!$B$8-1))-Parametreler!$A$11:$A$15)*Parametreler!$C$11:$C$15)-(SUMPRODUCT(((Parametreler!$B$3*(1-Parametreler!$B$4-Parametreler!$B$5)*Parametreler!$B$8)>Parametreler!$A$11:$A$15)*((Parametreler!$B$3*(1-Parametreler!$B$4-Parametreler!$B$5)*Parametreler!$B$8)-Parametreler!$A$11:$A$15)*Parametreler!$C$11:$C$15)-SUMPRODUCT(((Parametreler!$B$3*(1-Parametreler!$B$4-Parametreler!$B$5)*(Parametreler!$B$8-1))>Parametreler!$A$11:$A$15)*((Parametreler!$B$3*(1-Parametreler!$B$4-Parametreler!$B$5)*(Parametreler!$B$8-1))-Parametreler!$A$11:$A$15)*Parametreler!$C$11:$C$15)))) | G6: =IF(B6="","",MAX(0,(B6-Parametreler!$B$3)*Parametreler!$B$7)) | H6: =IF(B6="","",C6+D6+F6+G6) | I6: =IF(B6="","",B6-H6)
C7: =IF(B7="","",MIN(B7,Parametreler!$B$6)*Parametreler!$B$4) | D7: =IF(B7="","",MIN(B7,Parametreler!$B$6)*Parametreler!$B$5) | E7: =IF(B7="","",B7-C7-D7) | F7: =IF(B7="","",MAX(0,SUMPRODUCT(((E7*Parametreler!$B$8)>Parametreler!$A$11:$A$15)*((E7*Parametreler!$B$8)-Parametreler!$A$11:$A$15)*Parametreler!$C$11:$C$15)-SUMPRODUCT(((E7*(Parametreler!$B$8-1))>Parametreler!$A$11:$A$15)*((E7*(Parametreler!$B$8-1))-Parametreler!$A$11:$A$15)*Parametreler!$C$11:$C$15)-(SUMPRODUCT(((Parametreler!$B$3*(1-Parametreler!$B$4-Parametreler!$B$5)*Parametreler!$B$8)>Parametreler!$A$11:$A$15)*((Parametreler!$B$3*(1-Parametreler!$B$4-Parametreler!$B$5)*Parametreler!$B$8)-Parametreler!$A$11:$A$15)*Parametreler!$C$11:$C$15)-SUMPRODUCT(((Parametreler!$B$3*(1-Parametreler!$B$4-Parametreler!$B$5)*(Parametreler!$B$8-1))>Parametreler!$A$11:$A$15)*((Parametreler!$B$3*(1-Parametreler!$B$4-Parametreler!$B$5)*(Parametreler!$B$8-1))-Parametreler!$A$11:$A$15)*Parametreler!$C$11:$C$15)))) | G7: =IF(B7="","",MAX(0,(B7-Parametreler!$B$3)*Parametreler!$B$7)) | H7: =IF(B7="","",C7+D7+F7+G7) | I7: =IF(B7="","",B7-H7)
C8: =IF(B8="","",MIN(B8,Parametreler!$B$6)*Parametreler!$B$4) | D8: =IF(B8="","",MIN(B8,Parametreler!$B$6)*Parametreler!$B$5) | E8: =IF(B8="","",B8-C8-D8) | F8: =IF(B8="","",MAX(0,SUMPRODUCT(((E8*Parametreler!$B$8)>Parametreler!$A$11:$A$15)*((E8*Parametreler!$B$8)-Parametreler!$A$11:$A$15)*Parametreler!$C$11:$C$15)-SUMPRODUCT(((E8*(Parametreler!$B$8-1))>Parametreler!$A$11:$A$15)*((E8*(Parametreler!$B$8-1))-Parametreler!$A$11:$A$15)*Parametreler!$C$11:$C$15)-(SUMPRODUCT(((Parametreler!$B$3*(1-Parametreler!$B$4-Parametreler!$B$5)*Parametreler!$B$8)>Parametreler!$A$11:$A$15)*((Parametreler!$B$3*(1-Parametreler!$B$4-Parametreler!$B$5)*Parametreler!$B$8)-Parametreler!$A$11:$A$15)*Parametreler!$C$11:$C$15)-SUMPRODUCT(((Parametreler!$B$3*(1-Parametreler!$B$4-Parametreler!$B$5)*(Parametreler!$B$8-1))>Parametreler!$A$11:$A$15)*((Parametreler!$B$3*(1-Parametreler!$B$4-Parametreler!$B$5)*(Parametreler!$B$8-1))-Parametreler!$A$11:$A$15)*Parametreler!$C$11:$C$15)))) | G8: =IF(B8="","",MAX(0,(B8-Parametreler!$B$3)*Parametreler!$B$7)) | H8: =IF(B8="","",C8+D8+F8+G8) | I8: =IF(B8="","",B8-H8)
C9: =IF(B9="","",MIN(B9,Parametreler!$B$6)*Parametreler!$B$4) | D9: =IF(B9="","",MIN(B9,Parametreler!$B$6)*Parametreler!$B$5) | E9: =IF(B9="","",B9-C9-D9) | F9: =IF(B9="","",MAX(0,SUMPRODUCT(((E9*Parametreler!$B$8)>Parametreler!$A$11:$A$15)*((E9*Parametreler!$B$8)-Parametreler!$A$11:$A$15)*Parametreler!$C$11:$C$15)-SUMPRODUCT(((E9*(Parametreler!$B$8-1))>Parametreler!$A$11:$A$15)*((E9*(Parametreler!$B$8-1))-Parametreler!$A$11:$A$15)*Parametreler!$C$11:$C$15)-(SUMPRODUCT(((Parametreler!$B$3*(1-Parametreler!$B$4-Parametreler!$B$5)*Parametreler!$B$8)>Parametreler!$A$11:$A$15)*((Parametreler!$B$3*(1-Parametreler!$B$4-Parametreler!$B$5)*Parametreler!$B$8)-Parametreler!$A$11:$A$15)*Parametreler!$C$11:$C$15)-SUMPRODUCT(((Parametreler!$B$3*(1-Parametreler!$B$4-Parametreler!$B$5)*(Parametreler!$B$8-1))>Parametreler!$A$11:$A$15)*((Parametreler!$B$3*(1-Parametreler!$B$4-Parametreler!$B$5)*(Parametreler!$B$8-1))-Parametreler!$A$11:$A$15)*Parametreler!$C$11:$C$15)))) | G9: =IF(B9="","",MAX(0,(B9-Parametreler!$B$3)*Parametreler!$B$7)) | H9: =IF(B9="","",C9+D9+F9+G9) | I9: =IF(B9="","",B9-H9)
C10: =IF(B10="","",MIN(B10,Parametreler!$B$6)*Parametreler!$B$4) | D10: =IF(B10="","",MIN(B10,Parametreler!$B$6)*Parametreler!$B$5) | E10: =IF(B10="","",B10-C10-D10) | F10: =IF(B10="","",MAX(0,SUMPRODUCT(((E10*Parametreler!$B$8)>Parametreler!$A$11:$A$15)*((E10*Parametreler!$B$8)-Parametreler!$A$11:$A$15)*Parametreler!$C$11:$C$15)-SUMPRODUCT(((E10*(Parametreler!$B$8-1))>Parametreler!$A$11:$A$15)*((E10*(Parametreler!$B$8-1))-Parametreler!$A$11:$A$15)*Parametreler!$C$11:$C$15)-(SUMPRODUCT(((Parametreler!$B$3*(1-Parametreler!$B$4-Parametreler!$B$5)*Parametreler!$B$8)>Parametreler!$A$11:$A$15)*((Parametreler!$B$3*(1-Parametreler!$B$4-Parametreler!$B$5)*Parametreler!$B$8)-Parametreler!$A$11:$A$15)*Parametreler!$C$11:$C$15)-SUMPRODUCT(((Parametreler!$B$3*(1-Parametreler!$B$4-Parametreler!$B$5)*(Parametreler!$B$8-1))>Parametreler!$A$11:$A$15)*((Parametreler!$B$3*(1-Parametreler!$B$4-Parametreler!$B$5)*(Parametreler!$B$8-1))-Parametreler!$A$11:$A$15)*Parametreler!$C$11:$C$15)))) | G10: =IF(B10="","",MAX(0,(B10-Parametreler!$B$3)*Parametreler!$B$7)) | H10: =IF(B10="","",C10+D10+F10+G10) | I10: =IF(B10="","",B10-H10)
C11: =IF(B11="","",MIN(B11,Parametreler!$B$6)*Parametreler!$B$4) | D11: =IF(B11="","",MIN(B11,Parametreler!$B$6)*Parametreler!$B$5) | E11: =IF(B11="","",B11-C11-D11) | F11: =IF(B11="","",MAX(0,SUMPRODUCT(((E11*Parametreler!$B$8)>Parametreler!$A$11:$A$15)*((E11*Parametreler!$B$8)-Parametreler!$A$11:$A$15)*Parametreler!$C$11:$C$15)-SUMPRODUCT(((E11*(Parametreler!$B$8-1))>Parametreler!$A$11:$A$15)*((E11*(Parametreler!$B$8-1))-Parametreler!$A$11:$A$15)*Parametreler!$C$11:$C$15)-(SUMPRODUCT(((Parametreler!$B$3*(1-Parametreler!$B$4-Parametreler!$B$5)*Parametreler!$B$8)>Parametreler!$A$11:$A$15)*((Parametreler!$B$3*(1-Parametreler!$B$4-Parametreler!$B$5)*Parametreler!$B$8)-Parametreler!$A$11:$A$15)*Parametreler!$C$11:$C$15)-SUMPRODUCT(((Parametreler!$B$3*(1-Parametreler!$B$4-Parametreler!$B$5)*(Parametreler!$B$8-1))>Parametreler!$A$11:$A$15)*((Parametreler!$B$3*(1-Parametreler!$B$4-Parametreler!$B$5)*(Parametreler!$B$8-1))-Parametreler!$A$11:$A$15)*Parametreler!$C$11:$C$15)))) | G11: =IF(B11="","",MAX(0,(B11-Parametreler!$B$3)*Parametreler!$B$7)) | H11: =IF(B11="","",C11+D11+F11+G11) | I11: =IF(B11="","",B11-H11)
C12: =IF(B12="","",MIN(B12,Parametreler!$B$6)*Parametreler!$B$4) | D12: =IF(B12="","",MIN(B12,Parametreler!$B$6)*Parametreler!$B$5) | E12: =IF(B12="","",B12-C12-D12) | F12: =IF(B12="","",MAX(0,SUMPRODUCT(((E12*Parametreler!$B$8)>Parametreler!$A$11:$A$15)*((E12*Parametreler!$B$8)-Parametreler!$A$11:$A$15)*Parametreler!$C$11:$C$15)-SUMPRODUCT(((E12*(Parametreler!$B$8-1))>Parametreler!$A$11:$A$15)*((E12*(Parametreler!$B$8-1))-Parametreler!$A$11:$A$15)*Parametreler!$C$11:$C$15)-(SUMPRODUCT(((Parametreler!$B$3*(1-Parametreler!$B$4-Parametreler!$B$5)*Parametreler!$B$8)>Parametreler!$A$11:$A$15)*((Parametreler!$B$3*(1-Parametreler!$B$4-Parametreler!$B$5)*Parametreler!$B$8)-Parametreler!$A$11:$A$15)*Parametreler!$C$11:$C$15)-SUMPRODUCT(((Parametreler!$B$3*(1-Parametreler!$B$4-Parametreler!$B$5)*(Parametreler!$B$8-1))>Parametreler!$A$11:$A$15)*((Parametreler!$B$3*(1-Parametreler!$B$4-Parametreler!$B$5)*(Parametreler!$B$8-1))-Parametreler!$A$11:$A$15)*Parametreler!$C$11:$C$15)))) | G12: =IF(B12="","",MAX(0,(B12-Parametreler!$B$3)*Parametreler!$B$7)) | H12: =IF(B12="","",C12+D12+F12+G12) | I12: =IF(B12="","",B12-H12)
C13: =IF(B13="","",MIN(B13,Parametreler!$B$6)*Parametreler!$B$4) | D13: =IF(B13="","",MIN(B13,Parametreler!$B$6)*Parametreler!$B$5) | E13: =IF(B13="","",B13-C13-D13) | F13: =IF(B13="","",MAX(0,SUMPRODUCT(((E13*Parametreler!$B$8)>Parametreler!$A$11:$A$15)*((E13*Parametreler!$B$8)-Parametreler!$A$11:$A$15)*Parametreler!$C$11:$C$15)-SUMPRODUCT(((E13*(Parametreler!$B$8-1))>Parametreler!$A$11:$A$15)*((E13*(Parametreler!$B$8-1))-Parametreler!$A$11:$A$15)*Parametreler!$C$11:$C$15)-(SUMPRODUCT(((Parametreler!$B$3*(1-Parametreler!$B$4-Parametreler!$B$5)*Parametreler!$B$8)>Parametreler!$A$11:$A$15)*((Parametreler!$B$3*(1-Parametreler!$B$4-Parametreler!$B$5)*Parametreler!$B$8)-Parametreler!$A$11:$A$15)*Parametreler!$C$11:$C$15)-SUMPRODUCT(((Parametreler!$B$3*(1-Parametreler!$B$4-Parametreler!$B$5)*(Parametreler!$B$8-1))>Parametreler!$A$11:$A$15)*((Parametreler!$B$3*(1-Parametreler!$B$4-Parametreler!$B$5)*(Parametreler!$B$8-1))-Parametreler!$A$11:$A$15)*Parametreler!$C$11:$C$15)))) | G13: =IF(B13="","",MAX(0,(B13-Parametreler!$B$3)*Parametreler!$B$7)) | H13: =IF(B13="","",C13+D13+F13+G13) | I13: =IF(B13="","",B13-H13)
C14: =IF(B14="","",MIN(B14,Parametreler!$B$6)*Parametreler!$B$4) | D14: =IF(B14="","",MIN(B14,Parametreler!$B$6)*Parametreler!$B$5) | E14: =IF(B14="","",B14-C14-D14) | F14: =IF(B14="","",MAX(0,SUMPRODUCT(((E14*Parametreler!$B$8)>Parametreler!$A$11:$A$15)*((E14*Parametreler!$B$8)-Parametreler!$A$11:$A$15)*Parametreler!$C$11:$C$15)-SUMPRODUCT(((E14*(Parametreler!$B$8-1))>Parametreler!$A$11:$A$15)*((E14*(Parametreler!$B$8-1))-Parametreler!$A$11:$A$15)*Parametreler!$C$11:$C$15)-(SUMPRODUCT(((Parametreler!$B$3*(1-Parametreler!$B$4-Parametreler!$B$5)*Parametreler!$B$8)>Parametreler!$A$11:$A$15)*((Parametreler!$B$3*(1-Parametreler!$B$4-Parametreler!$B$5)*Parametreler!$B$8)-Parametreler!$A$11:$A$15)*Parametreler!$C$11:$C$15)-SUMPRODUCT(((Parametreler!$B$3*(1-Parametreler!$B$4-Parametreler!$B$5)*(Parametreler!$B$8-1))>Parametreler!$A$11:$A$15)*((Parametreler!$B$3*(1-Parametreler!$B$4-Parametreler!$B$5)*(Parametreler!$B$8-1))-Parametreler!$A$11:$A$15)*Parametreler!$C$11:$C$15)))) | G14: =IF(B14="","",MAX(0,(B14-Parametreler!$B$3)*Parametreler!$B$7)) | H14: =IF(B14="","",C14+D14+F14+G14) | I14: =IF(B14="","",B14-H14)
C15: =IF(B15="","",MIN(B15,Parametreler!$B$6)*Parametreler!$B$4) | D15: =IF(B15="","",MIN(B15,Parametreler!$B$6)*Parametreler!$B$5) | E15: =IF(B15="","",B15-C15-D15) | F15: =IF(B15="","",MAX(0,SUMPRODUCT(((E15*Parametreler!$B$8)>Parametreler!$A$11:$A$15)*((E15*Parametreler!$B$8)-Parametreler!$A$11:$A$15)*Parametreler!$C$11:$C$15)-SUMPRODUCT(((E15*(Parametreler!$B$8-1))>Parametreler!$A$11:$A$15)*((E15*(Parametreler!$B$8-1))-Parametreler!$A$11:$A$15)*Parametreler!$C$11:$C$15)-(SUMPRODUCT(((Parametreler!$B$3*(1-Parametreler!$B$4-Parametreler!$B$5)*Parametreler!$B$8)>Parametreler!$A$11:$A$15)*((Parametreler!$B$3*(1-Parametreler!$B$4-Parametreler!$B$5)*Parametreler!$B$8)-Parametreler!$A$11:$A$15)*Parametreler!$C$11:$C$15)-SUMPRODUCT(((Parametreler!$B$3*(1-Parametreler!$B$4-Parametreler!$B$5)*(Parametreler!$B$8-1))>Parametreler!$A$11:$A$15)*((Parametreler!$B$3*(1-Parametreler!$B$4-Parametreler!$B$5)*(Parametreler!$B$8-1))-Parametreler!$A$11:$A$15)*Parametreler!$C$11:$C$15)))) | G15: =IF(B15="","",MAX(0,(B15-Parametreler!$B$3)*Parametreler!$B$7)) | H15: =IF(B15="","",C15+D15+F15+G15) | I15: =IF(B15="","",B15-H15)
C16: =IF(B16="","",MIN(B16,Parametreler!$B$6)*Parametreler!$B$4) | D16: =IF(B16="","",MIN(B16,Parametreler!$B$6)*Parametreler!$B$5) | E16: =IF(B16="","",B16-C16-D16) | F16: =IF(B16="","",MAX(0,SUMPRODUCT(((E16*Parametreler!$B$8)>Parametreler!$A$11:$A$15)*((E16*Parametreler!$B$8)-Parametreler!$A$11:$A$15)*Parametreler!$C$11:$C$15)-SUMPRODUCT(((E16*(Parametreler!$B$8-1))>Parametreler!$A$11:$A$15)*((E16*(Parametreler!$B$8-1))-Parametreler!$A$11:$A$15)*Parametreler!$C$11:$C$15)-(SUMPRODUCT(((Parametreler!$B$3*(1-Parametreler!$B$4-Parametreler!$B$5)*Parametreler!$B$8)>Parametreler!$A$11:$A$15)*((Parametreler!$B$3*(1-Parametreler!$B$4-Parametreler!$B$5)*Parametreler!$B$8)-Parametreler!$A$11:$A$15)*Parametreler!$C$11:$C$15)-SUMPRODUCT(((Parametreler!$B$3*(1-Parametreler!$B$4-Parametreler!$B$5)*(Parametreler!$B$8-1))>Parametreler!$A$11:$A$15)*((Parametreler!$B$3*(1-Parametreler!$B$4-Parametreler!$B$5)*(Parametreler!$B$8-1))-Parametreler!$A$11:$A$15)*Parametreler!$C$11:$C$15)))) | G16: =IF(B16="","",MAX(0,(B16-Parametreler!$B$3)*Parametreler!$B$7)) | H16: =IF(B16="","",C16+D16+F16+G16) | I16: =IF(B16="","",B16-H16)
C17: =IF(B17="","",MIN(B17,Parametreler!$B$6)*Parametreler!$B$4) | D17: =IF(B17="","",MIN(B17,Parametreler!$B$6)*Parametreler!$B$5) | E17: =IF(B17="","",B17-C17-D17) | F17: =IF(B17="","",MAX(0,SUMPRODUCT(((E17*Parametreler!$B$8)>Parametreler!$A$11:$A$15)*((E17*Parametreler!$B$8)-Parametreler!$A$11:$A$15)*Parametreler!$C$11:$C$15)-SUMPRODUCT(((E17*(Parametreler!$B$8-1))>Parametreler!$A$11:$A$15)*((E17*(Parametreler!$B$8-1))-Parametreler!$A$11:$A$15)*Parametreler!$C$11:$C$15)-(SUMPRODUCT(((Parametreler!$B$3*(1-Parametreler!$B$4-Parametreler!$B$5)*Parametreler!$B$8)>Parametreler!$A$11:$A$15)*((Parametreler!$B$3*(1-Parametreler!$B$4-Parametreler!$B$5)*Parametreler!$B$8)-Parametreler!$A$11:$A$15)*Parametreler!$C$11:$C$15)-SUMPRODUCT(((Parametreler!$B$3*(1-Parametreler!$B$4-Parametreler!$B$5)*(Parametreler!$B$8-1))>Parametreler!$A$11:$A$15)*((Parametreler!$B$3*(1-Parametreler!$B$4-Parametreler!$B$5)*(Parametreler!$B$8-1))-Parametreler!$A$11:$A$15)*Parametreler!$C$11:$C$15)))) | G17: =IF(B17="","",MAX(0,(B17-Parametreler!$B$3)*Parametreler!$B$7)) | H17: =IF(B17="","",C17+D17+F17+G17) | I17: =IF(B17="","",B17-H17)
... C104: =IF(B104="","",MIN(B104,Parametreler!$B$6)*Parametreler!$B$4) | D104: =IF(B104="","",MIN(B104,Parametreler!$B$6)*Parametreler!$B$5) | E104: =IF(B104="","",B104-C104-D104) | F104: =IF(B104="","",MAX(0,SUMPRODUCT(((E104*Parametreler!$B$8)>Parametreler!$A$11:$A$15)*((E104*Parametreler!$B$8)-Parametreler!$A$11:$A$15)*Parametreler!$C$11:$C$15)-SUMPRODUCT(((E104*(Parametreler!$B$8-1))>Parametreler!$A$11:$A$15)*((E104*(Parametreler!$B$8-1))-Parametreler!$A$11:$A$15)*Parametreler!$C$11:$C$15)-(SUMPRODUCT(((Parametreler!$B$3*(1-Parametreler!$B$4-Parametreler!$B$5)*Parametreler!$B$8)>Parametreler!$A$11:$A$15)*((Parametreler!$B$3*(1-Parametreler!$B$4-Parametreler!$B$5)*Parametreler!$B$8)-Parametreler!$A$11:$A$15)*Parametreler!$C$11:$C$15)-SUMPRODUCT(((Parametreler!$B$3*(1-Parametreler!$B$4-Parametreler!$B$5)*(Parametreler!$B$8-1))>Parametreler!$A$11:$A$15)*((Parametreler!$B$3*(1-Parametreler!$B$4-Parametreler!$B$5)*(Parametreler!$B$8-1))-Parametreler!$A$11:$A$15)*Parametreler!$C$11:$C$15)))) | G104: =IF(B104="","",MAX(0,(B104-Parametreler!$B$3)*Parametreler!$B$7)) | H104: =IF(B104="","",C104+D104+F104+G104) | I104: =IF(B104="","",B104-H104)

Sheet Parametreler
A1: Parametreler (2026) - değişirse buradan güncelleyin
A3: Brüt asgari ücret (₺) | B3: 33030
A4: SGK işçi payı | B4: 0.14
A5: İşsizlik işçi payı | B5: 0.01
A6: SGK tavan (asgari ücretin 7,5 katı) | B6: =B3*7.5 -> 247725
A7: Damga vergisi oranı | B7: 0.00759
A8: Bordro ayı (1-12, brütün yıl boyu sabit olduğu varsayılır) | B8: 1
A9: Gelir vergisi dilimleri (ücret)
A10: Alt sınır | B10: Oran | C10: Artış oranı
A11: 0 | B11: 0.15 | C11: =B11 -> 0.15
A12: 190000 | B12: 0.2 | C12: =B12-B11 -> 0.05
A13: 400000 | B13: 0.27 | C13: =B13-B12 -> 0.07
A14: 1500000 | B14: 0.35 | C14: =B14-B13 -> 0.08
A15: 5300000 | B15: 0.4 | C15: =B15-B14 -> 0.05
A17: Kaynak: 2026 gelir vergisi tarifesi ve asgari ücret (Resmî Gazete / Gelir İdaresi). Hesap Ocak=1 için asgari ücret istisnasıyla yapılır; kümülatif matrah = (ay-1) x aylık matrah varsayımıdır.
